BEGIN:VCALENDAR
VERSION:2.0
PRODID:-//Asher Legacy Group - ECPv6.9.0//NONSGML v1.0//EN
CALSCALE:GREGORIAN
METHOD:PUBLISH
X-WR-CALNAME:Asher Legacy Group
X-ORIGINAL-URL:https://www.asherlegacygroup.org
X-WR-CALDESC:Events for Asher Legacy Group
REFRESH-INTERVAL;VALUE=DURATION:PT1H
X-Robots-Tag:noindex
X-PUBLISHED-TTL:PT1H
BEGIN:VTIMEZONE
TZID:America/Detroit
BEGIN:DAYLIGHT
TZOFFSETFROM:-0500
TZOFFSETTO:-0400
TZNAME:EDT
DTSTART:20250309T070000
END:DAYLIGHT
BEGIN:STANDARD
TZOFFSETFROM:-0400
TZOFFSETTO:-0500
TZNAME:EST
DTSTART:20251102T060000
END:STANDARD
TZID:UTC
BEGIN:STANDARD
TZOFFSETFROM:+0000
TZOFFSETTO:+0000
TZNAME:UTC
DTSTART:20220101T000000
END:STANDARD
END:VTIMEZONE
BEGIN:VEVENT
DTSTART;TZID=America/Detroit:20251107T180000
DTEND;TZID=America/Detroit:20251107T220000
DTSTAMP:20260425T083735
CREATED:20250725T175019Z
LAST-MODIFIED:20250727T233835Z
UID:1611-1762538400-1762552800@www.asherlegacygroup.org
SUMMARY:Black Dress & Suit Event
DESCRIPTION:We’re thrilled to announce the Black Dress & Suit Event 2025: Honoring Power Couples event! This year\, we’re expanding our celebration to include exceptional partnerships in all forms. Join us as we shine a spotlight on five outstanding couples who exemplify excellence\, impact\, and partnership in our Grand Rapids community. \nClick here to nominate a POWER couple! NOMINATION FORM\n 
URL:https://www.asherlegacygroup.org/event/blackdressandsuitevent/
LOCATION:TBD
CATEGORIES:Events with a purpose
ATTACH;FMTTYPE=image/png:https://www.asherlegacygroup.org/wp-content/uploads/2025/07/black-dress.png
ORGANIZER;CN="Asher Legacy Group":MAILTO:ladyreneejohnson@gmail.com
END:VEVENT
BEGIN:VEVENT
DTSTART;TZID=America/Detroit:20250223T150000
DTEND;TZID=America/Detroit:20250223T170000
DTSTAMP:20260425T083735
CREATED:20250129T230727Z
LAST-MODIFIED:20250129T230727Z
UID:1463-1740322800-1740330000@www.asherlegacygroup.org
SUMMARY:Vision Board Workshop
DESCRIPTION:An empowerment session for women \nhostess: Syreeta Drake
URL:https://www.asherlegacygroup.org/event/vision-board-workshop/
ATTACH;FMTTYPE=image/png:https://www.asherlegacygroup.org/wp-content/uploads/2025/01/Vision-Board-Event-Flyer-Asher-2025.png
ORGANIZER;CN="Asher Legacy Group":MAILTO:ladyreneejohnson@gmail.com
END:VEVENT
BEGIN:VEVENT
DTSTART;TZID=America/Detroit:20250124T180000
DTEND;TZID=America/Detroit:20250124T203000
DTSTAMP:20260425T083735
CREATED:20250104T220637Z
LAST-MODIFIED:20250104T220637Z
UID:1398-1737741600-1737750600@www.asherlegacygroup.org
SUMMARY:Moments with Mellanie
DESCRIPTION:An empowerment session for women \nhostess: Syreeta Drake
URL:https://www.asherlegacygroup.org/event/moments-with-mellanie/
LOCATION:Southern Smoke Restaurant\, 4023 Division Avenue South\, GRAND RAPIDS\, MI\, 49548\, United States
ATTACH;FMTTYPE=image/png:https://www.asherlegacygroup.org/wp-content/uploads/2025/01/Moments-with-Mellanie-Flyer.png
ORGANIZER;CN="Asher Legacy Group":MAILTO:ladyreneejohnson@gmail.com
END:VEVENT
BEGIN:VEVENT
DTSTART;TZID=UTC:20241025T190000
DTEND;TZID=UTC:20241025T210000
DTSTAMP:20260425T083735
CREATED:20241015T170748Z
LAST-MODIFIED:20241015T170748Z
UID:1009-1729882800-1729890000@www.asherlegacygroup.org
SUMMARY:AsKher: Denim Dinner & Dialogue
DESCRIPTION:October 25\, 2024 | 7:00 PM \nSouthern Smoke Restaurant\nFree Admission\nDinner Optional\nDress Code: Denim \nHosted by Southern Smoke Soul Food RestaurantOwner: Jodie Robertson \nJoin us for an evening of connection\, inspiration\, and empowerment at AsK Her. This intimate gathering is designed for women to share their stories\, explore pathways to fulfillment\, and build supportive relationships. \nEnjoy a delicious dinner from Southern Smoke Soul Food Restaurant while engaging in thought-provoking conversations and networking with like-minded women. \nDon’t miss this opportunity to be part of something special!
URL:https://www.asherlegacygroup.org/event/askher-denim-dinner-dialogue/
LOCATION:Southern Smoke Restaurant\, 4023 Division Avenue South\, GRAND RAPIDS\, MI\, 49548\, United States
ATTACH;FMTTYPE=image/png:https://www.asherlegacygroup.org/wp-content/uploads/2024/10/AsKher-Denim-Dinner-Dialogue-Flyer-3.png
ORGANIZER;CN="Asher Legacy Group":MAILTO:ladyreneejohnson@gmail.com
END:VEVENT
BEGIN:VEVENT
DTSTART;VALUE=DATE:20240322
DTEND;VALUE=DATE:20240324
DTSTAMP:20260425T083735
CREATED:20240116T012507Z
LAST-MODIFIED:20240116T012507Z
UID:748-1711065600-1711238399@www.asherlegacygroup.org
SUMMARY:The Essence and Wellbeing of Women over 50 - A health and wellness conference
DESCRIPTION:Embark on a journey of self-discovery\, empowerment\, and rejuvenation at a unique two-day conference tailored exclusively for women over 50(women under 50 are invited to join us). This immersive experience is designed to address the multifaceted aspects of health and wellness\, featuring a range of breakout sessions and activities to nurture and move your mind\, body\, and soul. “Movement”. \nDate and time\nMarch 22 · 6:30pm – March 23 · 2pm EDT\nLocation\nL. William Seidman Center (SCB) \n50 Front Avenue Southwest Grand Rapids\, MI 49504
URL:https://www.asherlegacygroup.org/event/the-essence-and-wellbeing-of-women-over-50-a-health-and-wellness-conference/
LOCATION:L. William Seidman Center (SCB)  50 Front Avenue Southwest Grand Rapids\, MI 49504\, 50 Front Avenue Southwest\, Grand Rapids\, MI\, 49504\, United States
ATTACH;FMTTYPE=image/png:https://www.asherlegacygroup.org/wp-content/uploads/2024/01/Event-Cover-Womens-Conference.png
ORGANIZER;CN="Asher Legacy Group":MAILTO:ladyreneejohnson@gmail.com
END:VEVENT
BEGIN:VEVENT
DTSTART;TZID=UTC:20220729T080000
DTEND;TZID=UTC:20230730T170000
DTSTAMP:20260425T083735
CREATED:20211029T153813Z
LAST-MODIFIED:20211029T153813Z
UID:95-1659081600-1690736400@www.asherlegacygroup.org
SUMMARY:Watercolors V
DESCRIPTION:Watercolors is a two-day\, weekend experience that brings black culture\, music\, business\, dance\, culinary\, and art together for a fashionable and kaleidoscopic experience.
URL:https://www.asherlegacygroup.org/event/watercolors-v/
LOCATION:Kent Country Club\, 1600 College Ave NE\, Grand Rapids\, MI\, MI\, 49505\, United States
END:VEVENT
BEGIN:VEVENT
DTSTART;TZID=UTC:20220508T120000
DTEND;TZID=UTC:20220508T150000
DTSTAMP:20260425T083735
CREATED:20211029T155134Z
LAST-MODIFIED:20211029T155140Z
UID:103-1652011200-1652022000@www.asherlegacygroup.org
SUMMARY:Crown Asher Tea
DESCRIPTION:Sample content here. Sample content here. Sample content here. Sample content here. Sample content here. Sample content here. Sample content here. Sample content here. Sample content here. Sample content here. Sample content here. Sample content here. Sample content here. Sample content here. Sample content here. Sample content here. Sample content here. Sample content here.
URL:https://www.asherlegacygroup.org/event/crown-asher-tea/
LOCATION:1234 Main St.\, 1234 Main\, Grand Rapids\, MI\, 49506\, United States
END:VEVENT
BEGIN:VEVENT
DTSTART;VALUE=DATE:20220401
DTEND;VALUE=DATE:20220501
DTSTAMP:20260425T083735
CREATED:20211029T155040Z
LAST-MODIFIED:20211121T160226Z
UID:100-1648771200-1651363199@www.asherlegacygroup.org
SUMMARY:Wealth Retirement/Estate Planning Seminar
DESCRIPTION:
URL:https://www.asherlegacygroup.org/event/wealth-retirement-estate-planning-seminar/
END:VEVENT
END:VCALENDAR